BEGIN:VCALENDAR
VERSION:2.0
PRODID:-//Wassersportfreunde 31 e.V.//Termine 2026//DE
CALSCALE:GREGORIAN
BEGIN:VEVENT
UID:20260613-erftslalom@wsf31.de
DTSTAMP:20260103T120000Z
DTSTART;VALUE=DATE:20260613
DTEND;VALUE=DATE:20260615
SUMMARY:Erftslalom Wettkampf
LOCATION:Neuss
END:VEVENT
END:VCALENDAR